<?xml version="1.0" encoding="utf-8"?>
    <TileMap version="1.0.0" tilemapservice="http://tms.osgeo.org/1.0.0">
      <Title>4DS313KPGIS0431 KPGIS-XYZ-TERRAIN-65K</Title>
      <Abstract></Abstract>
      <SRS>GEOGCS["WGS 84",DATUM["WGS_1984",SPHEROID["WGS 84",6378137,298.257223563,AUTHORITY["EPSG","7030"]],AUTHORITY["EPSG","6326"]],PRIMEM["Greenwich",0,AUTHORITY["EPSG","8901"]],UNIT["degree",0.0174532925199433,AUTHORITY["EPSG","9122"]],AXIS["Latitude",NORTH],AXIS["Longitude",EAST],AUTHORITY["EPSG","4326"]]</SRS>
      <BoundingBox minx="-180.00000000000000" miny="-90.00000000000000" maxx="180.00000000000000" maxy="90.00000000000000"/>
      <Origin x="-180.00000000000000" y="-90.00000000000000"/>
      <TileFormat width="256" height="256" mime-type="image/png" extension="png"/>
      <TileSets profile="raster">
        <TileSet href="0" units-per-pixel="1.40625000000000" order="0"/>
        <TileSet href="1" units-per-pixel="0.70312500000000" order="1"/>
        <TileSet href="2" units-per-pixel="0.35156250000000" order="2"/>
        <TileSet href="3" units-per-pixel="0.17578125000000" order="3"/>
        <TileSet href="4" units-per-pixel="0.08789062500000" order="4"/>
        <TileSet href="5" units-per-pixel="0.04394531250000" order="5"/>
        <TileSet href="6" units-per-pixel="0.02197265625000" order="6"/>
        <TileSet href="7" units-per-pixel="0.01098632812500" order="7"/>
        <TileSet href="8" units-per-pixel="0.00549316406250" order="8"/>
      </TileSets>
    </TileMap>
    